BEGIN:VCALENDAR
VERSION:2.0
PRODID:icalendar-ruby
CALSCALE:GREGORIAN
BEGIN:VEVENT
DTSTAMP:20210122T071730Z
UID:3df69ef3-2690-447e-a20d-cdc90c938ce2
DTSTART;VALUE=DATE:20210211
DESCRIPTION:Property ID# 498610\, Time: 4:00PM
SUMMARY:Auction for 145 Omori Road
END:VEVENT
END:VCALENDAR
